BEGIN:VCALENDAR
VERSION:2.0
PRODID:-//MFDA - ECPv6.15.20//NONSGML v1.0//EN
CALSCALE:GREGORIAN
METHOD:PUBLISH
X-ORIGINAL-URL:https://www.mfda.us
X-WR-CALDESC:Events for MFDA
REFRESH-INTERVAL;VALUE=DURATION:PT1H
X-Robots-Tag:noindex
X-PUBLISHED-TTL:PT1H
BEGIN:VTIMEZONE
TZID:America/New_York
BEGIN:DAYLIGHT
TZOFFSETFROM:-0500
TZOFFSETTO:-0400
TZNAME:EDT
DTSTART:20250309T070000
END:DAYLIGHT
BEGIN:STANDARD
TZOFFSETFROM:-0400
TZOFFSETTO:-0500
TZNAME:EST
DTSTART:20251102T060000
END:STANDARD
BEGIN:DAYLIGHT
TZOFFSETFROM:-0500
TZOFFSETTO:-0400
TZNAME:EDT
DTSTART:20260308T070000
END:DAYLIGHT
BEGIN:STANDARD
TZOFFSETFROM:-0400
TZOFFSETTO:-0500
TZNAME:EST
DTSTART:20261101T060000
END:STANDARD
BEGIN:DAYLIGHT
TZOFFSETFROM:-0500
TZOFFSETTO:-0400
TZNAME:EDT
DTSTART:20270314T070000
END:DAYLIGHT
BEGIN:STANDARD
TZOFFSETFROM:-0400
TZOFFSETTO:-0500
TZNAME:EST
DTSTART:20271107T060000
END:STANDARD
END:VTIMEZONE
BEGIN:VEVENT
DTSTART;VALUE=DATE:20260505
DTEND;VALUE=DATE:20260507
DTSTAMP:20260420T201613
CREATED:20260111T041258Z
LAST-MODIFIED:20260227T211936Z
UID:3085-1777939200-1778111999@www.mfda.us
SUMMARY:Fastener Fair 2026
DESCRIPTION:Save the Date! May 5th & 6th 2026 \nFastener Fair 2026 is returning to Charlotte\, North Carolina! \nPlanning to attend\, or have a colleague attending? MFDA Members receive FREE REGISTRATION with our exclusive code “MFDAFFUSA” ! Or save $75 on a combination show registration/welcome dinner ticket! \nLearn more at https://www.fastenerfairusa.com/
URL:https://www.mfda.us/event/fastener-fair-2026/
LOCATION:NJ
END:VEVENT
END:VCALENDAR