BEGIN:VCALENDAR
VERSION:2.0
PRODID:-//MFDA - ECPv6.15.20//NONSGML v1.0//EN
CALSCALE:GREGORIAN
METHOD:PUBLISH
X-WR-CALNAME:MFDA
X-ORIGINAL-URL:https://www.mfda.us
X-WR-CALDESC:Events for MFDA
REFRESH-INTERVAL;VALUE=DURATION:PT1H
X-Robots-Tag:noindex
X-PUBLISHED-TTL:PT1H
BEGIN:VTIMEZONE
TZID:America/New_York
BEGIN:DAYLIGHT
TZOFFSETFROM:-0500
TZOFFSETTO:-0400
TZNAME:EDT
DTSTART:20200308T070000
END:DAYLIGHT
BEGIN:STANDARD
TZOFFSETFROM:-0400
TZOFFSETTO:-0500
TZNAME:EST
DTSTART:20201101T060000
END:STANDARD
BEGIN:DAYLIGHT
TZOFFSETFROM:-0500
TZOFFSETTO:-0400
TZNAME:EDT
DTSTART:20210314T070000
END:DAYLIGHT
BEGIN:STANDARD
TZOFFSETFROM:-0400
TZOFFSETTO:-0500
TZNAME:EST
DTSTART:20211107T060000
END:STANDARD
BEGIN:DAYLIGHT
TZOFFSETFROM:-0500
TZOFFSETTO:-0400
TZNAME:EDT
DTSTART:20220313T070000
END:DAYLIGHT
BEGIN:STANDARD
TZOFFSETFROM:-0400
TZOFFSETTO:-0500
TZNAME:EST
DTSTART:20221106T060000
END:STANDARD
BEGIN:DAYLIGHT
TZOFFSETFROM:-0500
TZOFFSETTO:-0400
TZNAME:EDT
DTSTART:20230312T070000
END:DAYLIGHT
BEGIN:STANDARD
TZOFFSETFROM:-0400
TZOFFSETTO:-0500
TZNAME:EST
DTSTART:20231105T060000
END:STANDARD
BEGIN:DAYLIGHT
TZOFFSETFROM:-0500
TZOFFSETTO:-0400
TZNAME:EDT
DTSTART:20240310T070000
END:DAYLIGHT
BEGIN:STANDARD
TZOFFSETFROM:-0400
TZOFFSETTO:-0500
TZNAME:EST
DTSTART:20241103T060000
END:STANDARD
BEGIN:DAYLIGHT
TZOFFSETFROM:-0500
TZOFFSETTO:-0400
TZNAME:EDT
DTSTART:20250309T070000
END:DAYLIGHT
BEGIN:STANDARD
TZOFFSETFROM:-0400
TZOFFSETTO:-0500
TZNAME:EST
DTSTART:20251102T060000
END:STANDARD
BEGIN:DAYLIGHT
TZOFFSETFROM:-0500
TZOFFSETTO:-0400
TZNAME:EDT
DTSTART:20260308T070000
END:DAYLIGHT
BEGIN:STANDARD
TZOFFSETFROM:-0400
TZOFFSETTO:-0500
TZNAME:EST
DTSTART:20261101T060000
END:STANDARD
BEGIN:DAYLIGHT
TZOFFSETFROM:-0500
TZOFFSETTO:-0400
TZNAME:EDT
DTSTART:20270314T070000
END:DAYLIGHT
BEGIN:STANDARD
TZOFFSETFROM:-0400
TZOFFSETTO:-0500
TZNAME:EST
DTSTART:20271107T060000
END:STANDARD
END:VTIMEZONE
BEGIN:VEVENT
DTSTART;TZID=America/New_York:20260324T180000
DTEND;TZID=America/New_York:20260324T210000
DTSTAMP:20260420T184537
CREATED:20260212T184011Z
LAST-MODIFIED:20260224T001917Z
UID:3122-1774375200-1774386000@www.mfda.us
SUMMARY:MFDA Economic Forecast Dinner
DESCRIPTION:
URL:https://www.mfda.us/event/mfda-economic-forecast-dinner/
LOCATION:Hilton Hasbrouck Heights/Meadowlands\, 650 Terrace Ave\, Hasbrouck Heights\, NJ\, 07604\, United States
END:VEVENT
BEGIN:VEVENT
DTSTART;VALUE=DATE:20260317
DTEND;VALUE=DATE:20260407
DTSTAMP:20260420T184537
CREATED:20260113T221027Z
LAST-MODIFIED:20260304T212425Z
UID:3089-1773705600-1775519999@www.mfda.us
SUMMARY:2nd Annual MFDA Bracket Challenge
DESCRIPTION:The 2026 MFDA Bracket Challenge is here!\nDear MFDA members and friends\, \nIt’s time! The 2026 NCAA Men’s and Women’s Div 1 basketball tournaments are a few short weeks away and it’s time to join the MFDA Bracket Challenge! \nThere is no fee to enter. \n* The challenge is open to anyone who works for a company that is a MFDA member in 2026 or was a member in 2025. \n* We will be using the ESPN bracket challenge website. The MFDA has created a group in both the Men’s and Women’s tournament. \nThe Men’s Tournament can be reached by this link.\nThe Women’s Tournament can be reached by this link. \n* The password for both groups is: Fasteners! \n* Contestants should name their brackets with their names and then in parentheses their company name. There’s a 25-character limit so please include enough so we can identify your company (ex. “JohnSmith (ABC Fast)” \n* Each contestant is limited to 1 entry. \n*The deadline to enter is Thursday March 19th at 12:15pm EST. This is ESPN’s rule – not ours. \nAs for the contest itself (applies to both contests – you can enter one – or both!)\n*At the end of each round (through the semi-final round)\, the person with the highest cumulative point total will receive a $25 gift card. \n*At the end of the contest\, the person with the highest cumulative point total will receive a $200 gift card. \n*If there is a tie at the end of a round\, the tiebreakers will be:\n(1) Most correctly picked upsets (overall) by seeding (anytime a lower seed defeats a higher seed)\n(2) Largest upset picked (in the contest) by seeding (by difference in seeds).\n(3) Coin flip \nWe thank everyone who played in 2025 and look forward to a bigger contest in 2026! \nIf your company is not currently in the MFDA\, but you would like to become a member\, please visit the “join us” page on the MFDA website. \nPlease pass the email along to your employees & co-workers. Have a great week! Good Luck!\nThe MFDA
URL:https://www.mfda.us/event/2nd-annual-mfda-bracket-challenge/
LOCATION:NJ
END:VEVENT
BEGIN:VEVENT
DTSTART;VALUE=DATE:20260302
DTEND;VALUE=DATE:20260303
DTSTAMP:20260420T184537
CREATED:20260202T183538Z
LAST-MODIFIED:20260202T192601Z
UID:3094-1772409600-1772495999@www.mfda.us
SUMMARY:MFDA 2026 Annual Meeting
DESCRIPTION:What: MFDA 2026 Annual Meeting \nWhen: Monday\, March 2nd\, 2026 at 6pm \nWhere: Virtual (link will be provided closer to the event) \nNote: All attendees must register below (at no charge) to attend this meeting.  A zoom link will be emailed to all who register before the meeting takes place. Please provide an email address you check regularly.
URL:https://www.mfda.us/event/mfda-2026-annual-meeting/
LOCATION:NJ
END:VEVENT
BEGIN:VEVENT
DTSTART;TZID=America/New_York:20260129T110000
DTEND;TZID=America/New_York:20260129T110000
DTSTAMP:20260420T184537
CREATED:20260108T053933Z
LAST-MODIFIED:20260108T053933Z
UID:3080-1769684400-1769684400@www.mfda.us
SUMMARY:Free Print Reading Class
DESCRIPTION:Our friends at the New England Fastener Distributors Association have invited all MFDA members and friends to join in a FREE print reading virtual workshop on Thursday\, January 29th at 11am. This class\, presented by Jim Speck\, will include information on how to read a print\, types of prints & what’s required on them\, along with understanding tolerance & specification callouts\, among other topics. \nPlease visit the NEFDA’s event registration page to sign up. \nWe’re grateful to be part of this event\, thank you NEFDA! \nSee you (virtually) there! \nSincerely\nThe MFDA
URL:https://www.mfda.us/event/free-print-reading-class/
LOCATION:NJ
END:VEVENT
BEGIN:VEVENT
DTSTART;VALUE=DATE:20211201
DTEND;VALUE=DATE:20211203
DTSTAMP:20260420T184537
CREATED:20210603T003052Z
LAST-MODIFIED:20210603T003052Z
UID:1547-1638385200-1638471599@www.mfda.us
SUMMARY:Toys for Tots
DESCRIPTION:
URL:https://www.mfda.us/event/toys-for-tots/
LOCATION:NJ
END:VEVENT
BEGIN:VEVENT
DTSTART;VALUE=DATE:20210911
DTEND;VALUE=DATE:20210913
DTSTAMP:20260420T184537
CREATED:20210602T231916Z
LAST-MODIFIED:20210602T231916Z
UID:1518-1631390400-1631476799@www.mfda.us
SUMMARY:2021 Golf Outing
DESCRIPTION:
URL:https://www.mfda.us/event/2021-golf-outing/
LOCATION:NJ
END:VEVENT
BEGIN:VEVENT
DTSTART;VALUE=DATE:20210910
DTEND;VALUE=DATE:20210912
DTSTAMP:20260420T184537
CREATED:20210602T223113Z
LAST-MODIFIED:20210602T223113Z
UID:1492-1631304000-1631390399@www.mfda.us
SUMMARY:2021 Golf Outing - Cocktail Party
DESCRIPTION:
URL:https://www.mfda.us/event/2021-golf-outing-cocktail-party/
LOCATION:NJ
END:VEVENT
END:VCALENDAR